BEGIN:VCALENDAR
VERSION:2.0
PRODID:-//hacksw/handcal//NONSGML v1.0//EN
BEGIN:VEVENT
SUMMARY:Flechette vers Combourg
UID:c129711c-9b14-4acf-81a9-f26e68ec39e2
DTSTART:20260416T060000Z
DTEND:20260416T160000Z
LOCATION:Localisation   
CATEGORIES:Sportif
STATUS:
DESCRIPTION:<p>Inscriptions : <span
 style="font-size:18px;"><strong><a
 href="https://drive.google.com/file/d/1fxwOg9f9FaL5l5M4LUPJG8ft_dXekWWq/view?usp=drive_link"
 target="_blank" rel="noreferrer
 noopener">ICI</a></strong></span></p>
 
 <p><span
 style="color:#16a085;">Apres Chateaubriand et Vitre en 2025 et une
 semaine avant la<br>
 Fleche de St Malo, nous vous proposons une
 randonnee vers<br>
 Combourg le jeudi 16 avril organisee par
 Yvon.<br>
 Une boucle de 137 kms (Numero openrunner : 23040731)
 avec<br>
 des nouvelles routes : St Sulpice la Foret, Andouille
 Neuville,<br>
 Feins, Lanrigan, Combourg avec une pose photos devant
 le<br>
 chateau, Dinge, Montreuil sur Ille, St Medard,
 Betton.<br>
 Nous dejeunerons a Montreuil sur Ille.<br>
 3 formules
 sont proposees pour une plus grande participation :<br>
 • Le matin
 parcours de 87 kms (591 m)<br>
 • L'apres midi parcours de 50 kms
 (342 m)<br>
 • La boucle complete de 137 kms (933
 m)</span></p>
 
 <p><span style="color:#16a085;">Le transport sera
 assure par minibus avec une capacite maximum de 18 personnes
 (priorite aux<br>
 adherents) si plus nous mettrons en place du
 covoiturage.</span></p>
URL;VALUE=URI:https://www.ecbc-ffvelo.fr/evenements/2026/04/16/flechette-vers-combourg-2433791
END:VEVENT
END:VCALENDAR
