BEGIN:VCALENDAR
VERSION:2.0
PRODID:-//hacksw/handcal//NONSGML v1.0//EN
BEGIN:VEVENT
SUMMARY:Marche club (Plan d'eau de la Cantache - Vitre)
UID:68603787-4c5a-462b-92c3-945dd50ad9cd
DTSTART:20260409T060000Z
DTEND:20260409T150000Z
LOCATION:Localisation   
CATEGORIES:Sportif
STATUS:
DESCRIPTION:<p>Toutes les informations  <span
 style="font-size:16px;"><strong><a
 href="https://drive.google.com/file/d/1fxwOg9f9FaL5l5M4LUPJG8ft_dXekWWq/view?usp=drive_link"
 target="_blank" rel="noreferrer noopener"><span
 style="color:#2980b9;">ICI</span></a></strong></span></p>
 
 <p><span
 style="font-size:16px;"><span style="color:#2980b9;">Jeudi 9 avril :
 randonnee pedestre au <strong>barrage de la Cantache</strong>,
 organisee par Michel, a proximite des communes de Poce-les-Bois,
 Champeaux, Landavran<br>
 et Montreuil-sous-Perouse.
 </span></span><span style="font-size:16px;"><span
 style="color:#2980b9;">C’est un superbe plan d'eau amenage de 185
 hectares et un espace ou pratiquer des balades (Rando de 12 kms env.
 3h et 5kms).  </span></span><span style="font-size:16px;"><span
 style="color:#2980b9;">Le site comprend aussi un arboretum de 4
 hectares. </span></span></p>
 
 <p><span style="font-size:16px;"><span
 style="color:#2980b9;">Dejeuner a <strong>Poce Les Bois</strong> au
 restaurant <strong>FIP</strong> comme lors de notre derniere sortie a
 Vitre.</span></span></p>
 
 <p><span style="font-size:16px;"><span
 style="color:#2980b9;">Transport assure par minibus avec une capacite
 maximum de <strong>18 personnes</strong> (priorite auxadherents) si
 plus nous mettrons en place du covoiturage.</span></span></p>
URL;VALUE=URI:https://www.ecbc-ffvelo.fr/evenements/2026/04/09/marche-club-plan-deau-de-la-cantache-vitre-2433576
END:VEVENT
END:VCALENDAR
